BEGIN:VCALENDAR
VERSION:2.0
PRODID:icalendar-ruby
CALSCALE:GREGORIAN
BEGIN:VEVENT
DTSTAMP:20181224T055417Z
UID:d7b977fd-4249-4f4c-a46d-36fb4a8a5bc9
DTSTART;VALUE=DATE:20070819
DESCRIPTION:Property ID# 158266\, Locatoin: On Site\, Time: 12 noon
SUMMARY:Auction for 
END:VEVENT
END:VCALENDAR
