BEGIN:VCALENDAR
VERSION:2.0
PRODID:icalendar-ruby
CALSCALE:GREGORIAN
BEGIN:VEVENT
DTSTAMP:20181224T055537Z
UID:72740762-ce11-42b6-916b-63203102ffa3
DTSTART;VALUE=DATE:20081121
DESCRIPTION:Property ID# 191085\, Locatoin: Inglewood Club\, Moa Street\, I
 nglewood\, Time: 1.30pm
SUMMARY:Auction for 
END:VEVENT
END:VCALENDAR
