BEGIN:VCALENDAR
VERSION:2.0
PRODID:icalendar-ruby
CALSCALE:GREGORIAN
BEGIN:VEVENT
DTSTAMP:20181224T055334Z
UID:3c2b132d-dc83-4fe6-a5ab-43cf767a4d15
DTSTART;VALUE=DATE:20090214
DESCRIPTION:Property ID# 195150\, Locatoin: On Site\, Time: 12 Noon
SUMMARY:Auction for 
END:VEVENT
END:VCALENDAR
