BEGIN:VCALENDAR
VERSION:2.0
PRODID:icalendar-ruby
CALSCALE:GREGORIAN
BEGIN:VEVENT
DTSTAMP:20181224T055345Z
UID:9ecfab8b-e907-4bee-bfde-a588347b7bd3
DTSTART;VALUE=DATE:20091104
DESCRIPTION:Property ID# 210957\, Locatoin: at Bayleys Taranaki\, 81 Powder
 ham Street\, New Plymouth\, Time: 4:00pm
SUMMARY:Auction for 
END:VEVENT
END:VCALENDAR
