BEGIN:VCALENDAR
VERSION:2.0
PRODID:icalendar-ruby
CALSCALE:GREGORIAN
BEGIN:VEVENT
DTSTAMP:20181224T055539Z
UID:ff27140b-219a-48cb-a1d7-7d18c43632e3
DTSTART;VALUE=DATE:20100329
DESCRIPTION:Property ID# 221133\, Locatoin: Inglewood Office\, Time: 4pm
SUMMARY:Auction for 
END:VEVENT
END:VCALENDAR
