BEGIN:VCALENDAR
VERSION:2.0
PRODID:icalendar-ruby
CALSCALE:GREGORIAN
BEGIN:VEVENT
DTSTAMP:20181224T055422Z
UID:aefb2250-e464-49f5-9ab4-bc57d4d71059
DTSTART;VALUE=DATE:20100929
DESCRIPTION:Property ID# 231209\, Locatoin: Central\, Time: 5.30pm
SUMMARY:Auction for 
END:VEVENT
END:VCALENDAR
