BEGIN:VCALENDAR
VERSION:2.0
PRODID:icalendar-ruby
CALSCALE:GREGORIAN
BEGIN:VEVENT
DTSTAMP:20181224T055425Z
UID:f6b14d7d-49fc-492b-83fe-959daf7d6158
DTSTART;VALUE=DATE:20101202
DESCRIPTION:Property ID# 233503\, Locatoin: Auto Lodge Motor Inn\, New Plym
 outh\, Time: 6.00pm (unless sold prior)
SUMMARY:Auction for 
END:VEVENT
END:VCALENDAR
