BEGIN:VCALENDAR
VERSION:2.0
PRODID:icalendar-ruby
CALSCALE:GREGORIAN
BEGIN:VEVENT
DTSTAMP:20181224T055407Z
UID:dffbfc68-6a79-46b0-b16e-c1ac343b4864
DTSTART;VALUE=DATE:20170930
DESCRIPTION:Property ID# 404234\, Locatoin: On Site\, Time: 12 midday
SUMMARY:Auction for 
END:VEVENT
END:VCALENDAR
