BEGIN:VCALENDAR
VERSION:2.0
PRODID:icalendar-ruby
CALSCALE:GREGORIAN
BEGIN:VEVENT
DTSTAMP:20181224T055544Z
UID:65d1ed4e-a4fe-46ad-93f0-4b5fb67a3658
DTSTART;VALUE=DATE:20180317
DESCRIPTION:Property ID# 408280\, Time: 17:30
SUMMARY:Auction for 
END:VEVENT
END:VCALENDAR
