BEGIN:VCALENDAR
VERSION:2.0
PRODID:icalendar-ruby
CALSCALE:GREGORIAN
BEGIN:VEVENT
DTSTAMP:20181224T055459Z
UID:9811424f-fe57-4fea-8925-650338e5318f
DTSTART;VALUE=DATE:20190228
DESCRIPTION:Property ID# 437529\, Locatoin: TSB Realty office\, 120 Devon S
 treet East\, New Plymouth\, Time: 4pm
SUMMARY:Auction for 1296  Carrington Road
END:VEVENT
END:VCALENDAR
