BEGIN:VCALENDAR
VERSION:2.0
PRODID:icalendar-ruby
CALSCALE:GREGORIAN
BEGIN:VEVENT
DTSTAMP:20181224T054714Z
UID:b6a2de9b-ecf4-4d25-a248-0845fccf9b7e
DTSTART;VALUE=DATE:20181220
DESCRIPTION:Property ID# 440184\, Locatoin: Level 1\, White Hart\, 47 Queen
  Street\, New Plymouth\, Time: 2:00 pm
SUMMARY:Auction for 
END:VEVENT
END:VCALENDAR
