BEGIN:VCALENDAR
VERSION:2.0
PRODID:icalendar-ruby
CALSCALE:GREGORIAN
BEGIN:VEVENT
DTSTAMP:20181224T055238Z
UID:7ac6fc8c-c2cf-46d2-bf21-338f3b9ceffa
DTSTART;VALUE=DATE:20040225
DESCRIPTION:Property ID# 73164\, Time: 4 pm
SUMMARY:Auction for 
END:VEVENT
END:VCALENDAR
