BEGIN:VCALENDAR
VERSION:2.0
PRODID:icalendar-ruby
CALSCALE:GREGORIAN
BEGIN:VEVENT
DTSTAMP:20181224T055316Z
UID:77d46b4a-fdf1-4d9b-83f9-590246f349f4
DTSTART;VALUE=DATE:20050125
DESCRIPTION:Property ID# 92918\, Locatoin: (unless sold prior)\, Time: 4 pm
SUMMARY:Auction for 
END:VEVENT
END:VCALENDAR
