BEGIN:VCALENDAR
VERSION:2.0
PRODID:icalendar-ruby
CALSCALE:GREGORIAN
BEGIN:VEVENT
DTSTAMP:20181224T055250Z
UID:43731423-7ec8-487a-a4f4-b49e77033f4d
DTSTART;VALUE=DATE:20051210
DESCRIPTION:Property ID# 98845\, Locatoin: On Site - unless sold prior by P
 rivate Treaty\, Time: 12 noon
SUMMARY:Auction for 
END:VEVENT
END:VCALENDAR
