BEGIN:VCALENDAR
VERSION:2.0
PRODID:icalendar-ruby
CALSCALE:GREGORIAN
BEGIN:VEVENT
DTSTAMP:20181224T055457Z
UID:4a3af8dc-2a7e-49e2-97e1-7ee93d0bfe77
DTSTART;TZID=Pacific/Auckland:20181223T110000
DTEND;TZID=Pacific/Auckland:20181223T113000
DESCRIPTION:Property ID# 437072
SUMMARY:Openhome for 739 Carrington Road
END:VEVENT
END:VCALENDAR
