BEGIN:VCALENDAR
VERSION:2.0
PRODID:icalendar-ruby
CALSCALE:GREGORIAN
BEGIN:VEVENT
DTSTAMP:20181224T055441Z
UID:b588abfd-4a90-4434-8ba6-4d5f3dfb3e6f
DTSTART;TZID=Pacific/Auckland:20181223T121500
DTEND;TZID=Pacific/Auckland:20181223T124500
DESCRIPTION:Property ID# 435359
SUMMARY:Openhome for 268 Tariki Road South
END:VEVENT
END:VCALENDAR
