BEGIN:VCALENDAR
VERSION:2.0
PRODID:icalendar-ruby
CALSCALE:GREGORIAN
BEGIN:VEVENT
DTSTAMP:20181224T055454Z
UID:f2c61323-2e7d-4aa4-b14e-dd3b75fe47f5
DTSTART;TZID=Pacific/Auckland:20181223T161500
DTEND;TZID=Pacific/Auckland:20181223T164500
DESCRIPTION:Property ID# 436944
SUMMARY:Openhome for 330 Kelly Road
END:VEVENT
END:VCALENDAR
