BEGIN:VCALENDAR
VERSION:2.0
PRODID:icalendar-ruby
CALSCALE:GREGORIAN
BEGIN:VEVENT
DTSTAMP:20181224T055449Z
UID:5231a866-dd28-4286-b8f9-d06789e50df7
DTSTART;TZID=Pacific/Auckland:20181223T124500
DTEND;TZID=Pacific/Auckland:20181223T131500
DESCRIPTION:Property ID# 436468
SUMMARY:Openhome for 5/32 Cowling Road
END:VEVENT
END:VCALENDAR
