BEGIN:VCALENDAR
VERSION:2.0
PRODID:icalendar-ruby
CALSCALE:GREGORIAN
BEGIN:VEVENT
DTSTAMP:20181224T055504Z
UID:a4d615c4-7e6e-4177-8a9c-2ab6da450729
DTSTART;TZID=Pacific/Auckland:20181223T151500
DTEND;TZID=Pacific/Auckland:20181223T154500
DESCRIPTION:Property ID# 439911
SUMMARY:Openhome for 36 Rosendale Avenue
END:VEVENT
END:VCALENDAR
