BEGIN:VCALENDAR
VERSION:2.0
PRODID:icalendar-ruby
CALSCALE:GREGORIAN
BEGIN:VEVENT
DTSTAMP:20191218T041020Z
UID:9875bab2-43aa-40e7-bc18-19f14e5b8556
DTSTART;TZID=Pacific/Auckland:20200105T130000
DTEND;TZID=Pacific/Auckland:20200105T133000
DESCRIPTION:Property ID# 469295
SUMMARY:Openhome for 4 Ellesmere Ave
END:VEVENT
END:VCALENDAR
