BEGIN:VCALENDAR
VERSION:2.0
PRODID:icalendar-ruby
CALSCALE:GREGORIAN
BEGIN:VEVENT
DTSTAMP:20191218T041028Z
UID:ec6b3563-edc2-4299-92f0-1113c489be2a
DTSTART;TZID=Pacific/Auckland:20200105T121500
DTEND;TZID=Pacific/Auckland:20200105T124500
DESCRIPTION:Property ID# 469294
SUMMARY:Openhome for 146 Mangati Road
END:VEVENT
END:VCALENDAR
