BEGIN:VCALENDAR
VERSION:2.0
PRODID:icalendar-ruby
CALSCALE:GREGORIAN
BEGIN:VEVENT
DTSTAMP:20191218T041031Z
UID:429a68b7-f15f-4271-b825-d0d902fb0a74
DTSTART;TZID=Pacific/Auckland:20200105T130000
DTEND;TZID=Pacific/Auckland:20200105T133000
DESCRIPTION:Property ID# 469293
SUMMARY:Openhome for 16 Hine Street
END:VEVENT
END:VCALENDAR
