BEGIN:VCALENDAR
VERSION:2.0
PRODID:icalendar-ruby
CALSCALE:GREGORIAN
BEGIN:VEVENT
DTSTAMP:20191218T040858Z
UID:dfd26c8d-eccc-477a-bb5e-980369f683b6
DTSTART;TZID=Pacific/Auckland:20191217T173000
DTEND;TZID=Pacific/Auckland:20191217T180000
DESCRIPTION:Property ID# 469348
SUMMARY:Openhome for 365 Saint Aubyn Street
END:VEVENT
END:VCALENDAR
