BEGIN:VCALENDAR
VERSION:2.0
PRODID:icalendar-ruby
CALSCALE:GREGORIAN
BEGIN:VEVENT
DTSTAMP:20191218T040924Z
UID:10ee3db4-0a2f-4c4b-a657-d34a5df9a7c9
DTSTART;TZID=Pacific/Auckland:20191222T130000
DTEND;TZID=Pacific/Auckland:20191222T140000
DESCRIPTION:Property ID# 469101
SUMMARY:Openhome for 19 Wallace Place
END:VEVENT
END:VCALENDAR
