BEGIN:VCALENDAR
VERSION:2.0
PRODID:icalendar-ruby
CALSCALE:GREGORIAN
BEGIN:VEVENT
DTSTAMP:20191218T040940Z
UID:a65ffd5b-09d7-4af7-a701-c595b6ddc6ec
DTSTART;TZID=Pacific/Auckland:20191221T120000
DTEND;TZID=Pacific/Auckland:20191221T123000
DESCRIPTION:Property ID# 469216
SUMMARY:Openhome for 4 Mackillop Way
END:VEVENT
END:VCALENDAR
