BEGIN:VCALENDAR
VERSION:2.0
PRODID:icalendar-ruby
CALSCALE:GREGORIAN
BEGIN:VEVENT
DTSTAMP:20260424T194611Z
UID:70fd0973-2de4-43a5-916e-98fa32de9784
DTSTART;VALUE=DATE:20200728
DESCRIPTION:Property ID# 485099\, Locatoin: 51 Devon St West\, NP\, Time: 4
 :30PM
SUMMARY:Auction for 
END:VEVENT
END:VCALENDAR
